Package: RGraph2js
Version: 1.32.0
Command: /home/biocbuild/bbs-3.19-bioc/R/bin/R CMD INSTALL RGraph2js
StartedAt: 2024-10-16 16:11:30 -0400 (Wed, 16 Oct 2024)
EndedAt: 2024-10-16 16:11:33 -0400 (Wed, 16 Oct 2024)
EllapsedTime: 3.0 seconds
RetCode: 0
Status: OK