Package: RGraph2js
Version: 1.32.0
Command: /home/biocbuild/R/R-beta-2024-04-15_r86425/bin/R CMD INSTALL RGraph2js
StartedAt: 2024-05-08 20:17:28 -0000 (Wed, 08 May 2024)
EndedAt: 2024-05-08 20:17:32 -0000 (Wed, 08 May 2024)
EllapsedTime: 3.7 seconds
RetCode: 0
Status: OK