Package: RGraph2js
Version: 1.32.0
Command: /Library/Frameworks/R.framework/Resources/bin/R CMD build --keep-empty-dirs --no-resave-data RGraph2js
StartedAt: 2024-10-17 07:31:28 -0400 (Thu, 17 Oct 2024)
EndedAt: 2024-10-17 07:31:49 -0400 (Thu, 17 Oct 2024)
EllapsedTime: 20.4 seconds
RetCode: 0
Status: OK
PackageFile: RGraph2js_1.32.0.tar.gz
PackageFileSize: 2.344 <A href="http://en.wikipedia.org/wiki/MiB" target="_blank">MiB</A>