Package: REBET
Version: 1.22.0
Command: /Library/Frameworks/R.framework/Resources/bin/R CMD INSTALL REBET
StartedAt: 2024-06-09 15:43:11 -0400 (Sun, 09 Jun 2024)
EndedAt: 2024-06-09 15:43:19 -0400 (Sun, 09 Jun 2024)
EllapsedTime: 8.0 seconds
RetCode: 0
Status: OK