Package: REBET
Version: 1.22.0
Command: /Library/Frameworks/R.framework/Resources/bin/R CMD check --install=check:REBET.install-out.txt --library=/Library/Frameworks/R.framework/Resources/library --no-vignettes --timings REBET_1.22.0.tar.gz
StartedAt: 2024-06-09 22:30:16 -0400 (Sun, 09 Jun 2024)
EndedAt: 2024-06-09 22:31:11 -0400 (Sun, 09 Jun 2024)
EllapsedTime: 55.4 seconds
RetCode: 0
Status: OK
CheckDir: REBET.Rcheck
Warnings: 0