Package: RDRToolbox
Version: 1.54.0
Command: /Library/Frameworks/R.framework/Resources/bin/R CMD build --keep-empty-dirs --no-resave-data RDRToolbox
StartedAt: 2024-06-09 17:52:05 -0400 (Sun, 09 Jun 2024)
EndedAt: 2024-06-09 17:52:22 -0400 (Sun, 09 Jun 2024)
EllapsedTime: 16.9 seconds
RetCode: 0
Status: OK
PackageFile: RDRToolbox_1.54.0.tar.gz
PackageFileSize: 190.6 <A href="http://en.wikipedia.org/wiki/KiB" target="_blank">KiB</A>