Package: RDRToolbox
Version: 1.54.0
Command: /Library/Frameworks/R.framework/Resources/bin/R CMD build --keep-empty-dirs --no-resave-data RDRToolbox
StartedAt: 2024-06-10 03:14:10 -0400 (Mon, 10 Jun 2024)
EndedAt: 2024-06-10 03:14:31 -0400 (Mon, 10 Jun 2024)
EllapsedTime: 20.6 seconds
RetCode: 0
Status: OK
PackageFile: RDRToolbox_1.54.0.tar.gz
PackageFileSize: 190.4 <A href="http://en.wikipedia.org/wiki/KiB" target="_blank">KiB</A>