Package: RCy3
Version: 2.24.0
Maintainer: Alex Pico
MaintainerEmail: alex.pico at gladstone.ucsf.edu
git_url: https://git.bioconductor.org/packages/RCy3
git_branch: RELEASE_3_19
git_last_commit: ca074c6
git_last_commit_date: 2024-04-30 10:46:27 -0400 (Tue, 30 Apr 2024)