Package: RBM
Version: 1.36.0
Maintainer: Dongmei Li
MaintainerEmail: Dongmei_Li at urmc.rochester.edu
git_url: https://git.bioconductor.org/packages/RBM
git_branch: RELEASE_3_19
git_last_commit: 427f245
git_last_commit_date: 2024-04-30 10:42:43 -0400 (Tue, 30 Apr 2024)