Package: R3CPET
Version: 1.36.0
Command: chmod a+r R3CPET -R && F:\biocbuild\bbs-3.19-bioc\R\bin\R.exe CMD build --keep-empty-dirs --no-resave-data R3CPET
StartedAt: 2024-06-26 21:12:11 -0400 (Wed, 26 Jun 2024)
EndedAt: 2024-06-26 21:15:10 -0400 (Wed, 26 Jun 2024)
EllapsedTime: 179.7 seconds
RetCode: 0
Status: OK
PackageFile: R3CPET_1.36.0.tar.gz
PackageFileSize: 5.084 <A href="http://en.wikipedia.org/wiki/MiB" target="_blank">MiB</A>