Package: QuaternaryProd
Version: 1.38.0
Maintainer: Carl Tony Fakhry
MaintainerEmail: cfakhry at cs.umb.edu
git_url: https://git.bioconductor.org/packages/QuaternaryProd
git_branch: RELEASE_3_19
git_last_commit: 49af975
git_last_commit_date: 2024-04-30 10:47:30 -0400 (Tue, 30 Apr 2024)