Package: QuasR
Version: 1.44.0
Command: /home/biocbuild/bbs-3.19-bioc/R/bin/R CMD INSTALL QuasR
StartedAt: 2024-10-16 16:15:19 -0400 (Wed, 16 Oct 2024)
EndedAt: 2024-10-16 16:16:22 -0400 (Wed, 16 Oct 2024)
EllapsedTime: 62.5 seconds
RetCode: 0
Status: OK