Package: QuartPAC
Version: 1.36.0
Maintainer: Gregory Ryslik
MaintainerEmail: gregory.ryslik at yale.edu
git_url: https://git.bioconductor.org/packages/QuartPAC
git_branch: RELEASE_3_19
git_last_commit: 19f8acc
git_last_commit_date: 2024-04-30 10:40:46 -0400 (Tue, 30 Apr 2024)