Package: QUBIC
Version: 1.32.0
Command: F:\biocbuild\bbs-3.19-bioc\R\bin\R.exe CMD INSTALL QUBIC
StartedAt: 2024-06-26 16:41:24 -0400 (Wed, 26 Jun 2024)
EndedAt: 2024-06-26 16:42:14 -0400 (Wed, 26 Jun 2024)
EllapsedTime: 50.1 seconds
RetCode: 0
Status: OK