Package: QUBIC
Version: 1.32.0
Command: chmod a+r QUBIC -R && F:\biocbuild\bbs-3.19-bioc\R\bin\R.exe CMD build --keep-empty-dirs --no-resave-data QUBIC
StartedAt: 2024-06-26 21:11:27 -0400 (Wed, 26 Jun 2024)
EndedAt: 2024-06-26 21:13:49 -0400 (Wed, 26 Jun 2024)
EllapsedTime: 141.3 seconds
RetCode: 0
Status: OK
PackageFile: QUBIC_1.32.0.tar.gz
PackageFileSize: 496.6 <A href="http://en.wikipedia.org/wiki/KiB" target="_blank">KiB</A>