Package: QUBIC
Version: 1.32.0
Command: /home/biocbuild/R/R-beta-2024-04-15_r86425/bin/R CMD build --keep-empty-dirs --no-resave-data QUBIC
StartedAt: 2024-05-09 02:44:41 -0000 (Thu, 09 May 2024)
EndedAt: 2024-05-09 02:46:56 -0000 (Thu, 09 May 2024)
EllapsedTime: 135.2 seconds
RetCode: 0
Status: OK
PackageFile: QUBIC_1.32.0.tar.gz
PackageFileSize: 487.7 <A href="http://en.wikipedia.org/wiki/KiB" target="_blank">KiB</A>