Package: QUBIC
Version: 1.32.0
Command: /Library/Frameworks/R.framework/Resources/bin/R CMD INSTALL QUBIC
StartedAt: 2024-10-16 18:22:00 -0400 (Wed, 16 Oct 2024)
EndedAt: 2024-10-16 18:22:28 -0400 (Wed, 16 Oct 2024)
EllapsedTime: 28.0 seconds
RetCode: 0
Status: OK