Package: QUBIC Version: 1.32.0 Maintainer: Yu Zhang MaintainerEmail: zy26 at jlu.edu.cn git_url: https://git.bioconductor.org/packages/QUBIC git_branch: RELEASE_3_19 git_last_commit: e80d2da git_last_commit_date: 2024-04-30 10:49:51 -0400 (Tue, 30 Apr 2024)