Package: QFeatures
Version: 1.14.1
Command: /Library/Frameworks/R.framework/Resources/bin/R CMD build --keep-empty-dirs --no-resave-data QFeatures
StartedAt: 2024-06-09 17:48:29 -0400 (Sun, 09 Jun 2024)
EndedAt: 2024-06-09 17:49:52 -0400 (Sun, 09 Jun 2024)
EllapsedTime: 83.0 seconds
RetCode: 0
Status: OK
PackageFile: QFeatures_1.14.1.tar.gz
PackageFileSize: 2.848 <A href="http://en.wikipedia.org/wiki/MiB" target="_blank">MiB</A>