Package: QFeatures
Version: 1.14.1
Command: rm -rf QFeatures.buildbin-libdir && mkdir QFeatures.buildbin-libdir && /Users/biocbuild/BBS/utils/build-universal.sh QFeatures_1.14.1.tar.gz /Library/Frameworks/R.framework/Resources/bin/R QFeatures.buildbin-libdir
StartedAt: 2024-06-10 00:33:30 -0400 (Mon, 10 Jun 2024)
EndedAt: 2024-06-10 00:34:14 -0400 (Mon, 10 Jun 2024)
EllapsedTime: 44.1 seconds
RetCode: 0
Status: OK
PackageFile: QFeatures_1.14.1.tgz
PackageFileSize: 3.346 <A href="http://en.wikipedia.org/wiki/MiB" target="_blank">MiB</A>