Package: ProteoDisco
Version: 1.10.0
Maintainer: Job van Riet
MaintainerEmail: jobvriet at gmail.com
git_url: https://git.bioconductor.org/packages/ProteoDisco
git_branch: RELEASE_3_19
git_last_commit: e7dc7fb
git_last_commit_date: 2024-04-30 11:36:56 -0400 (Tue, 30 Apr 2024)