Package: ProtGenerics
Version: 1.36.0
Command: /Library/Frameworks/R.framework/Resources/bin/R CMD build --keep-empty-dirs --no-resave-data ProtGenerics
StartedAt: 2024-06-09 17:47:27 -0400 (Sun, 09 Jun 2024)
EndedAt: 2024-06-09 17:47:28 -0400 (Sun, 09 Jun 2024)
EllapsedTime: 1.1 seconds
RetCode: 0
Status: OK
PackageFile: ProtGenerics_1.36.0.tar.gz
PackageFileSize: 9.935 <A href="http://en.wikipedia.org/wiki/KiB" target="_blank">KiB</A>