Package: Prostar
Version: 1.36.3
Maintainer: Samuel Wieczorek
MaintainerEmail: samuel.wieczorek at cea.fr
git_url: https://git.bioconductor.org/packages/Prostar
git_branch: RELEASE_3_19
git_last_commit: e368f26
git_last_commit_date: 2024-10-06 09:04:07 -0400 (Sun, 06 Oct 2024)