Package: Pedixplorer
Version: 1.0.0
Command: /Library/Frameworks/R.framework/Resources/bin/R CMD build --keep-empty-dirs --no-resave-data Pedixplorer
StartedAt: 2024-10-17 06:18:01 -0400 (Thu, 17 Oct 2024)
EndedAt: 2024-10-17 06:19:06 -0400 (Thu, 17 Oct 2024)
EllapsedTime: 65.0 seconds
RetCode: 0
Status: OK
PackageFile: Pedixplorer_1.0.0.tar.gz
PackageFileSize: 3.419 <A href="http://en.wikipedia.org/wiki/MiB" target="_blank">MiB</A>