Package: PathNet
Version: 1.44.0
Maintainer: Ludwig Geistlinger
MaintainerEmail: ludwig.geistlinger at gmail.com
git_url: https://git.bioconductor.org/packages/PathNet
git_branch: RELEASE_3_19
git_last_commit: 16efc45
git_last_commit_date: 2024-04-30 11:19:30 -0400 (Tue, 30 Apr 2024)