Package: PanViz
Version: 1.6.0
Maintainer: Luca Anholt
MaintainerEmail: la1317 at ic.ac.uk
git_url: https://git.bioconductor.org/packages/PanViz
git_branch: RELEASE_3_19
git_last_commit: 27ec438
git_last_commit_date: 2024-04-30 11:42:56 -0400 (Tue, 30 Apr 2024)