Package: PLSDAbatch
Version: 1.0.0
Command: /home/biocbuild/bbs-3.19-bioc/R/bin/R CMD INSTALL PLSDAbatch
StartedAt: 2024-10-16 16:44:50 -0400 (Wed, 16 Oct 2024)
EndedAt: 2024-10-16 16:45:32 -0400 (Wed, 16 Oct 2024)
EllapsedTime: 41.5 seconds
RetCode: 0
Status: OK