Package: PLSDAbatch
Version: 1.0.0
Command: rm -rf PLSDAbatch.buildbin-libdir && mkdir PLSDAbatch.buildbin-libdir && /Users/biocbuild/BBS/utils/build-universal.sh PLSDAbatch_1.0.0.tar.gz /Library/Frameworks/R.framework/Resources/bin/R PLSDAbatch.buildbin-libdir
StartedAt: 2024-06-11 12:32:50 -0400 (Tue, 11 Jun 2024)
EndedAt: 2024-06-11 12:33:58 -0400 (Tue, 11 Jun 2024)
EllapsedTime: 68.1 seconds
RetCode: 0
Status: OK
PackageFile: PLSDAbatch_1.0.0.tgz
PackageFileSize: 1.75 <A href="http://en.wikipedia.org/wiki/MiB" target="_blank">MiB</A>