Package: PIUMA
Version: 1.0.0
Command: /Library/Frameworks/R.framework/Resources/bin/R CMD INSTALL PIUMA
StartedAt: 2024-06-09 16:23:10 -0400 (Sun, 09 Jun 2024)
EndedAt: 2024-06-09 16:23:53 -0400 (Sun, 09 Jun 2024)
EllapsedTime: 43.0 seconds
RetCode: 0
Status: OK