Package: PIUMA
Version: 1.0.0
Command: /Library/Frameworks/R.framework/Resources/bin/R CMD check --install=check:PIUMA.install-out.txt --library=/Library/Frameworks/R.framework/Resources/library --no-vignettes --timings PIUMA_1.0.0.tar.gz
StartedAt: 2024-10-18 07:34:17 -0400 (Fri, 18 Oct 2024)
EndedAt: 2024-10-18 07:38:23 -0400 (Fri, 18 Oct 2024)
EllapsedTime: 245.4 seconds
RetCode: 0
Status: OK
CheckDir: PIUMA.Rcheck
Warnings: 0