Package: OutSplice
Version: 1.4.0
Maintainer: Theresa Guo
MaintainerEmail: twguo at health.ucsd.edu
git_url: https://git.bioconductor.org/packages/OutSplice
git_branch: RELEASE_3_19
git_last_commit: 311bef9
git_last_commit_date: 2024-04-30 11:49:13 -0400 (Tue, 30 Apr 2024)