Package: OrderedList
Version: 1.76.0
Maintainer: Claudio Lottaz
MaintainerEmail: Claudio.Lottaz at klinik.uni-regensburg.de
git_url: https://git.bioconductor.org/packages/OrderedList
git_branch: RELEASE_3_19
git_last_commit: ed259fb
git_last_commit_date: 2024-04-30 10:15:24 -0400 (Tue, 30 Apr 2024)