Package: OmnipathR
Version: 3.12.4
Maintainer: Denes Turei
MaintainerEmail: turei.denes at gmail.com
git_url: https://git.bioconductor.org/packages/OmnipathR
git_branch: RELEASE_3_19
git_last_commit: edb3c69
git_last_commit_date: 2024-10-02 06:46:04 -0400 (Wed, 02 Oct 2024)