Package: OVESEG
Version: 1.20.0
Maintainer: Lulu Chen
MaintainerEmail: luluchen at vt.edu
git_url: https://git.bioconductor.org/packages/OVESEG
git_branch: RELEASE_3_19
git_last_commit: 39255ad
git_last_commit_date: 2024-04-30 11:11:56 -0400 (Tue, 30 Apr 2024)