Package: OMICsPCA
Version: 1.22.0
Command: rm -rf OMICsPCA.buildbin-libdir && mkdir OMICsPCA.buildbin-libdir && E:\biocbuild\bbs-3.19-bioc\R\bin\R.exe CMD INSTALL --build --library=OMICsPCA.buildbin-libdir OMICsPCA_1.22.0.tar.gz
StartedAt: 2024-10-17 08:17:12 -0400 (Thu, 17 Oct 2024)
EndedAt: 2024-10-17 08:18:13 -0400 (Thu, 17 Oct 2024)
EllapsedTime: 61.0 seconds
RetCode: 0
Status: OK
PackageFile: OMICsPCA_1.22.0.zip
PackageFileSize: 1.704 <A href="http://en.wikipedia.org/wiki/MiB" target="_blank">MiB</A>