Package: OMICsPCA
Version: 1.22.0
Command: /Library/Frameworks/R.framework/Resources/bin/R CMD INSTALL OMICsPCA
StartedAt: 2024-10-16 16:49:38 -0400 (Wed, 16 Oct 2024)
EndedAt: 2024-10-16 16:51:28 -0400 (Wed, 16 Oct 2024)
EllapsedTime: 109.8 seconds
RetCode: 0
Status: OK