Package: OMICsPCA
Version: 1.22.0
Command: /Library/Frameworks/R.framework/Resources/bin/R CMD check --install=check:OMICsPCA.install-out.txt --library=/Library/Frameworks/R.framework/Resources/library --no-vignettes --timings OMICsPCA_1.22.0.tar.gz
StartedAt: 2024-10-17 10:16:26 -0400 (Thu, 17 Oct 2024)
EndedAt: 2024-10-17 10:29:57 -0400 (Thu, 17 Oct 2024)
EllapsedTime: 811.0 seconds
RetCode: 0
Status: OK
CheckDir: OMICsPCA.Rcheck
Warnings: 0