Package: OMICsPCA
Version: 1.22.0
Command: rm -rf OMICsPCA.buildbin-libdir && mkdir OMICsPCA.buildbin-libdir && /Users/biocbuild/BBS/utils/build-universal.sh OMICsPCA_1.22.0.tar.gz /Library/Frameworks/R.framework/Resources/bin/R OMICsPCA.buildbin-libdir
StartedAt: 2024-06-10 00:30:37 -0400 (Mon, 10 Jun 2024)
EndedAt: 2024-06-10 00:31:46 -0400 (Mon, 10 Jun 2024)
EllapsedTime: 68.9 seconds
RetCode: 0
Status: OK
PackageFile: OMICsPCA_1.22.0.tgz
PackageFileSize: 7.87 <A href="http://en.wikipedia.org/wiki/MiB" target="_blank">MiB</A>