Package: OGRE
Version: 1.8.0
Maintainer: Sven Berres
MaintainerEmail: svenbioinf at gmail.com
git_url: https://git.bioconductor.org/packages/OGRE
git_branch: RELEASE_3_19
git_last_commit: 4e17fad
git_last_commit_date: 2024-04-30 11:39:51 -0400 (Tue, 30 Apr 2024)