Package: NeuCA
Version: 1.10.0
Command: /Library/Frameworks/R.framework/Resources/bin/R CMD build --keep-empty-dirs --no-resave-data NeuCA
StartedAt: 2024-10-16 21:35:43 -0400 (Wed, 16 Oct 2024)
EndedAt: 2024-10-16 21:39:42 -0400 (Wed, 16 Oct 2024)
EllapsedTime: 239.3 seconds
RetCode: 0
Status: OK
PackageFile: NeuCA_1.10.0.tar.gz
PackageFileSize: 3.701 <A href="http://en.wikipedia.org/wiki/MiB" target="_blank">MiB</A>