Package: NeuCA Version: 1.10.0 Command: rm -rf NeuCA.buildbin-libdir && mkdir NeuCA.buildbin-libdir && /Users/biocbuild/BBS/utils/build-universal.sh NeuCA_1.10.0.tar.gz /Library/Frameworks/R.framework/Resources/bin/R NeuCA.buildbin-libdir StartedAt: 2024-10-17 16:44:17 -0400 (Thu, 17 Oct 2024) EndedAt: 2024-10-17 16:45:21 -0400 (Thu, 17 Oct 2024) EllapsedTime: 64.8 seconds RetCode: 0 Status: OK PackageFile: NeuCA_1.10.0.tgz PackageFileSize: 3.419 <A href="http://en.wikipedia.org/wiki/MiB" target="_blank">MiB</A>