Package: NetActivity
Version: 1.6.0
Maintainer: Carlos Ruiz-Arenas
MaintainerEmail: carlos.ruiza at upf.edu
git_url: https://git.bioconductor.org/packages/NetActivity
git_branch: RELEASE_3_19
git_last_commit: 218f656
git_last_commit_date: 2024-04-30 11:45:52 -0400 (Tue, 30 Apr 2024)