Package: Nebulosa
Version: 1.14.0
Command: E:\biocbuild\bbs-3.19-bioc\R\bin\R.exe CMD INSTALL Nebulosa
StartedAt: 2024-10-16 16:37:24 -0400 (Wed, 16 Oct 2024)
EndedAt: 2024-10-16 16:37:55 -0400 (Wed, 16 Oct 2024)
EllapsedTime: 30.6 seconds
RetCode: 0
Status: OK