Package: NanoStringNCTools Version: 1.12.0 Command: /Library/Frameworks/R.framework/Resources/bin/R CMD INSTALL NanoStringNCTools StartedAt: 2024-10-16 15:56:36 -0400 (Wed, 16 Oct 2024) EndedAt: 2024-10-16 15:57:17 -0400 (Wed, 16 Oct 2024) EllapsedTime: 41.1 seconds RetCode: 0 Status: OK