Package: NanoStringNCTools
Version: 1.12.0
Command: rm -rf NanoStringNCTools.buildbin-libdir && mkdir NanoStringNCTools.buildbin-libdir && /Users/biocbuild/BBS/utils/build-universal.sh NanoStringNCTools_1.12.0.tar.gz /Library/Frameworks/R.framework/Resources/bin/R NanoStringNCTools.buildbin-libdir
StartedAt: 2024-10-17 16:43:07 -0400 (Thu, 17 Oct 2024)
EndedAt: 2024-10-17 16:43:54 -0400 (Thu, 17 Oct 2024)
EllapsedTime: 47.3 seconds
RetCode: 0
Status: OK
PackageFile: NanoStringNCTools_1.12.0.tgz
PackageFileSize: 945.7 <A href="http://en.wikipedia.org/wiki/KiB" target="_blank">KiB</A>