Package: NanoStringNCTools Version: 1.12.0 Maintainer: Maddy Griswold MaintainerEmail: mgriswold at nanostring.com git_url: https://git.bioconductor.org/packages/NanoStringNCTools git_branch: RELEASE_3_19 git_last_commit: 511216f git_last_commit_date: 2024-04-30 11:30:40 -0400 (Tue, 30 Apr 2024)