Package: NPARC
Version: 1.16.0
Maintainer: Nils Kurzawa
MaintainerEmail: nilskurzawa at gmail.com
git_url: https://git.bioconductor.org/packages/NPARC
git_branch: RELEASE_3_19
git_last_commit: c3850f8
git_last_commit_date: 2024-04-30 11:19:34 -0400 (Tue, 30 Apr 2024)