Package: NOISeq
Version: 2.48.0
Maintainer: Sonia Tarazona
MaintainerEmail: sotacam at eio.upv.es
git_url: https://git.bioconductor.org/packages/NOISeq
git_branch: RELEASE_3_19
git_last_commit: 4bbaaed
git_last_commit_date: 2024-04-30 10:29:23 -0400 (Tue, 30 Apr 2024)