Package: NCIgraph
Version: 1.52.0
Maintainer: Laurent Jacob
MaintainerEmail: laurent.jacob at gmail.com
git_url: https://git.bioconductor.org/packages/NCIgraph
git_branch: RELEASE_3_19
git_last_commit: 3895ae2
git_last_commit_date: 2024-04-30 10:24:06 -0400 (Tue, 30 Apr 2024)