Package: MultiMed
Version: 2.26.0
Command: E:\biocbuild\bbs-3.19-bioc\R\bin\R.exe CMD INSTALL MultiMed
StartedAt: 2024-10-16 17:10:26 -0400 (Wed, 16 Oct 2024)
EndedAt: 2024-10-16 17:10:32 -0400 (Wed, 16 Oct 2024)
EllapsedTime: 6.0 seconds
RetCode: 0
Status: OK